BEGIN:VCALENDAR
VERSION:2.0
PRODID:-//EMSERPLA - ECPv5.8.1//NONSGML v1.0//EN
CALSCALE:GREGORIAN
METHOD:PUBLISH
X-WR-CALNAME:EMSERPLA
X-ORIGINAL-URL:https://www.emserpla.gov.co
X-WR-CALDESC:Eventos para EMSERPLA
BEGIN:VTIMEZONE
TZID:UTC
BEGIN:STANDARD
TZOFFSETFROM:+0000
TZOFFSETTO:+0000
TZNAME:UTC
DTSTART:20220101T000000
END:STANDARD
END:VTIMEZONE
BEGIN:VEVENT
DTSTART;TZID=UTC:20221215T080000
DTEND;TZID=UTC:20221215T170000
DTSTAMP:20260424T084536
CREATED:20220928T211434Z
LAST-MODIFIED:20220928T211435Z
UID:3619-1671091200-1671123600@www.emserpla.gov.co
SUMMARY:Celebración de la Navidad\, en familia.
DESCRIPTION:Warning:  count(): Parameter must be an array or an object that implements Countable in /home/emserpla/public_html/wp-includes/post-template.php on line 317\n\nNotice:  Trying to access array offset on value of type null in /home/emserpla/public_html/wp-includes/post-template.php on line 323\n	\n		Share This Post With Others!\n		facebooktwitterlinkedinwhatsapppinterestCorreo electrónico
URL:https://www.emserpla.gov.co/event/celebracion-de-la-navidad-en-familia/
END:VEVENT
END:VCALENDAR