BEGIN:VCALENDAR
VERSION:2.0
PRODID:-//EMSERPLA - ECPv5.8.1//NONSGML v1.0//EN
CALSCALE:GREGORIAN
METHOD:PUBLISH
X-WR-CALNAME:EMSERPLA
X-ORIGINAL-URL:https://www.emserpla.gov.co
X-WR-CALDESC:Eventos para EMSERPLA
BEGIN:VTIMEZONE
TZID:UTC
BEGIN:STANDARD
TZOFFSETFROM:+0000
TZOFFSETTO:+0000
TZNAME:UTC
DTSTART:20250101T000000
END:STANDARD
END:VTIMEZONE
BEGIN:VEVENT
DTSTART;TZID=UTC:20250301T080000
DTEND;TZID=UTC:20250301T170000
DTSTAMP:20260420T100333
CREATED:20250314T164937Z
LAST-MODIFIED:20250314T165043Z
UID:4652-1740816000-1740848400@www.emserpla.gov.co
SUMMARY:Cumpleaños emserpla\, Día Nacional del Reciclador y del Reciclaje
DESCRIPTION:Warning:  count(): Parameter must be an array or an object that implements Countable in /home/emserpla/public_html/wp-includes/post-template.php on line 317\n\nNotice:  Trying to access array offset on value of type null in /home/emserpla/public_html/wp-includes/post-template.php on line 323\n	\n		Share This Post With Others!\n		facebooktwitterlinkedinwhatsapppinterestCorreo electrónico
URL:https://www.emserpla.gov.co/event/cumpleanos-emserpla-dia-nacional-del-reciclador-y-del-reciclaje/
END:VEVENT
END:VCALENDAR