BEGIN:VCALENDAR
VERSION:2.0
PRODID:-//EMSERPLA - ECPv5.8.1//NONSGML v1.0//EN
CALSCALE:GREGORIAN
METHOD:PUBLISH
X-WR-CALNAME:EMSERPLA
X-ORIGINAL-URL:https://www.emserpla.gov.co
X-WR-CALDESC:Eventos para EMSERPLA
BEGIN:VTIMEZONE
TZID:UTC
BEGIN:STANDARD
TZOFFSETFROM:+0000
TZOFFSETTO:+0000
TZNAME:UTC
DTSTART:20200101T000000
END:STANDARD
END:VTIMEZONE
BEGIN:VEVENT
DTSTART;TZID=UTC:20201218T100000
DTEND;TZID=UTC:20201218T120000
DTSTAMP:20260424T084257
CREATED:20201031T003130Z
LAST-MODIFIED:20201031T005600Z
UID:2605-1608285600-1608292800@www.emserpla.gov.co
SUMMARY:Rendición de Cuentas Vigencia 2020
DESCRIPTION:Warning:  count(): Parameter must be an array or an object that implements Countable in /home/emserpla/public_html/wp-includes/post-template.php on line 317\n\nNotice:  Trying to access array offset on value of type null in /home/emserpla/public_html/wp-includes/post-template.php on line 323\n	\n		Share This Post With Others!\n		facebooktwitterlinkedinwhatsapppinterestCorreo electrónico
URL:https://www.emserpla.gov.co/event/rendicion-de-cuentas-vigencia-2020/
CATEGORIES:Reuniones
END:VEVENT
BEGIN:VEVENT
DTSTART;TZID=UTC:20201026T143000
DTEND;TZID=UTC:20201026T150000
DTSTAMP:20260424T084257
CREATED:20201030T185739Z
LAST-MODIFIED:20201031T003434Z
UID:2552-1603722600-1603724400@www.emserpla.gov.co
SUMMARY:Junta Extraordinaria
DESCRIPTION:Invitación a Reunión de Junta Extraordinaria Empresa de Servicios Públicos de la Plata EMSERPLA E.S.P \n\n\n\n\n\ngerencia@emserpla.gov.co \n\n\n\n\n\n\n\nWarning:  count(): Parameter must be an array or an object that implements Countable in /home/emserpla/public_html/wp-includes/post-template.php on line 317\n\nNotice:  Trying to access array offset on value of type null in /home/emserpla/public_html/wp-includes/post-template.php on line 323\n	\n		Share This Post With Others!\n		facebooktwitterlinkedinwhatsapppinterestCorreo electrónico
URL:https://www.emserpla.gov.co/event/junta-extraordinaria/
CATEGORIES:Reuniones
END:VEVENT
BEGIN:VEVENT
DTSTART;TZID=UTC:20200908T150000
DTEND;TZID=UTC:20200908T180000
DTSTAMP:20260424T084257
CREATED:20201031T005821Z
LAST-MODIFIED:20201031T010045Z
UID:2608-1599577200-1599588000@www.emserpla.gov.co
SUMMARY:Socialización del inicio del proyecto "Fase I del Sistema De Alcantarillado del Municipio de La Plata"
DESCRIPTION:Invitación a la socialización del inicio del proyecto «Fase I del Sistema De Alcantarillado del Municipio de La Plata» el día 08 de septiembre a las 3:00 p.m en la Casa de La Cultura del Municipio. \n\n\n\n\n\n\n\n\n\n\n\nWarning:  count(): Parameter must be an array or an object that implements Countable in /home/emserpla/public_html/wp-includes/post-template.php on line 317\n\nNotice:  Trying to access array offset on value of type null in /home/emserpla/public_html/wp-includes/post-template.php on line 323\n	\n		Share This Post With Others!\n		facebooktwitterlinkedinwhatsapppinterestCorreo electrónico
URL:https://www.emserpla.gov.co/event/socializacion-del-inicio-del-proyecto-fase-i-del-sistema-de-alcantarillado-del-municipio-de-la-plata/
END:VEVENT
END:VCALENDAR